BEGIN:VCALENDAR
VERSION:2.0
PRODID:-//orlando.firespring.org//NONSGML kigkonsult.se iCalcreator 2.30.10
 //
CALSCALE:GREGORIAN
METHOD:PUBLISH
UID:f9310a4b-e60e-48b4-8cf5-b46d6940e142
X-WR-CALDESC:Monthly Board Meeting
X-WR-RELCALID:7b9dd75652b3cdaa3b2f3637dffa0d03
X-WR-TIMEZONE:America/Chicago
BEGIN:VTIMEZONE
TZID:America/Chicago
BEGIN:STANDARD
TZNAME:CST
DTSTART:20271107T020000
TZOFFSETFROM:-0500
TZOFFSETTO:-0600
RDATE:20281105T020000
RDATE:20291104T020000
END:STANDARD
BEGIN:DAYLIGHT
TZNAME:CDT
DTSTART:20280312T020000
TZOFFSETFROM:-0600
TZOFFSETTO:-0500
RDATE:20290311T020000
RDATE:20300310T020000
END:DAYLIGHT
END:VTIMEZONE
BEGIN:VEVENT
UID:340d72b6-84e5-473e-9e96-533e865540f5
DTSTAMP:20260426T020430Z
DESCRIPTION:Monthly Board Meeting
DTSTART;TZID=America/Chicago:20281103T183000
DTEND;TZID=America/Chicago:20281103T200000
LOCATION:Atrium Meeting Room
SUMMARY:Board Meeting
END:VEVENT
END:VCALENDAR
