BEGIN:VCALENDAR
VERSION:2.0
PRODID:-//orlando.firespring.org//NONSGML kigkonsult.se iCalcreator 2.30.10
 //
CALSCALE:GREGORIAN
METHOD:PUBLISH
UID:d55729ed-1018-4af5-a393-9a67332f423f
X-WR-CALDESC:Volunteer Appreciation Week is a monthly celebration observed 
 to promote and show appreciation for volunteerism and volunteering.\n\n
X-WR-RELCALID:38abd27b87896f514fe03806e2227667
X-WR-TIMEZONE:America/Chicago
BEGIN:VTIMEZONE
TZID:America/Chicago
BEGIN:STANDARD
TZNAME:CST
DTSTART:20271107T020000
TZOFFSETFROM:-0500
TZOFFSETTO:-0600
RDATE:20281105T020000
RDATE:20291104T020000
END:STANDARD
BEGIN:DAYLIGHT
TZNAME:CDT
DTSTART:20280312T020000
TZOFFSETFROM:-0600
TZOFFSETTO:-0500
RDATE:20290311T020000
END:DAYLIGHT
END:VTIMEZONE
BEGIN:VEVENT
UID:0aa16c8d-3be7-428a-b6cc-b2721da2743b
DTSTAMP:20260425T214130Z
DESCRIPTION:Volunteer Appreciation Week is a monthly celebration observed t
 o promote and show appreciation for volunteerism and volunteering.\n\n
DTSTART;TZID=America/Chicago:20280820T123000
DTEND;TZID=America/Chicago:20280826T133000
LOCATION:
SUMMARY:Volunteer Appreciation Week
END:VEVENT
END:VCALENDAR
