BEGIN:VCALENDAR
VERSION:2.0
PRODID:-//orlando.firespring.org//NONSGML kigkonsult.se iCalcreator 2.30.10
 //
CALSCALE:GREGORIAN
METHOD:PUBLISH
UID:73eea461-8ed7-4afd-ad9d-3c10d61af6f7
X-WR-CALDESC:Monthly Board Meeting
X-WR-RELCALID:ea14a9836e1af4a629f0ca5b24c2055f
X-WR-TIMEZONE:America/Chicago
BEGIN:VTIMEZONE
TZID:America/Chicago
BEGIN:STANDARD
TZNAME:CST
DTSTART:20271107T020000
TZOFFSETFROM:-0500
TZOFFSETTO:-0600
RDATE:20281105T020000
END:STANDARD
BEGIN:DAYLIGHT
TZNAME:CDT
DTSTART:20270314T020000
TZOFFSETFROM:-0600
TZOFFSETTO:-0500
RDATE:20280312T020000
RDATE:20290311T020000
END:DAYLIGHT
END:VTIMEZONE
BEGIN:VEVENT
UID:339b61e0-f3bb-4841-b7b9-64ad1fdf9bd3
DTSTAMP:20260425T131635Z
DESCRIPTION:Monthly Board Meeting
DTSTART;TZID=America/Chicago:20280204T183000
DTEND;TZID=America/Chicago:20280204T200000
LOCATION:Atrium Meeting Room
SUMMARY:Board Meeting
END:VEVENT
END:VCALENDAR
