BEGIN:VCALENDAR
VERSION:2.0
PRODID:-//orlando.firespring.org//NONSGML kigkonsult.se iCalcreator 2.30.10
 //
CALSCALE:GREGORIAN
METHOD:PUBLISH
UID:82a05090-5914-4d6b-902b-dbf52b8644b2
X-WR-CALDESC:Monthly Board Meeting
X-WR-RELCALID:0aa4dffff7bad70db8ba76547830583f
X-WR-TIMEZONE:America/Chicago
BEGIN:VTIMEZONE
TZID:America/Chicago
BEGIN:STANDARD
TZNAME:CST
DTSTART:20231105T020000
TZOFFSETFROM:-0500
TZOFFSETTO:-0600
RDATE:20241103T020000
RDATE:20251102T020000
END:STANDARD
BEGIN:DAYLIGHT
TZNAME:CDT
DTSTART:20240310T020000
TZOFFSETFROM:-0600
TZOFFSETTO:-0500
RDATE:20250309T020000
END:DAYLIGHT
END:VTIMEZONE
BEGIN:VEVENT
UID:0ed3c684-fac3-49df-85d4-4fa16118fcf0
DTSTAMP:20260425T131701Z
DESCRIPTION:Monthly Board Meeting
DTSTART;TZID=America/Chicago:20240705T183000
DTEND;TZID=America/Chicago:20240705T200000
LOCATION:Atrium Meeting Room
SUMMARY:Board Meeting
END:VEVENT
END:VCALENDAR
