BEGIN:VCALENDAR
VERSION:2.0
PRODID:-//orlando.firespring.org//NONSGML kigkonsult.se iCalcreator 2.30.10
 //
CALSCALE:GREGORIAN
METHOD:PUBLISH
UID:b5ca634a-b152-476f-8d00-7ec4d31808be
X-WR-CALDESC:Monthly Board Meeting
X-WR-RELCALID:2c36212c0e136764a264a74cec381464
X-WR-TIMEZONE:America/Chicago
BEGIN:VTIMEZONE
TZID:America/Chicago
BEGIN:STANDARD
TZNAME:CST
DTSTART:20231105T020000
TZOFFSETFROM:-0500
TZOFFSETTO:-0600
RDATE:20241103T020000
RDATE:20251102T020000
END:STANDARD
BEGIN:DAYLIGHT
TZNAME:CDT
DTSTART:20240310T020000
TZOFFSETFROM:-0600
TZOFFSETTO:-0500
RDATE:20250309T020000
END:DAYLIGHT
END:VTIMEZONE
BEGIN:VEVENT
UID:9cb51bdd-0a61-4ae7-a488-37d3a71f5840
DTSTAMP:20260425T155459Z
DESCRIPTION:Monthly Board Meeting
DTSTART;TZID=America/Chicago:20240503T183000
DTEND;TZID=America/Chicago:20240503T200000
LOCATION:Atrium Meeting Room
SUMMARY:Board Meeting
END:VEVENT
END:VCALENDAR
