BEGIN:VCALENDAR
VERSION:2.0
PRODID:-//orlando.firespring.org//NONSGML kigkonsult.se iCalcreator 2.30.10
 //
CALSCALE:GREGORIAN
METHOD:PUBLISH
UID:57473979-a1a4-464f-85f2-e35214e730a9
X-WR-CALDESC:Monthly Board Meeting
X-WR-RELCALID:c651adcc7a8f122661892072462be326
X-WR-TIMEZONE:America/Chicago
BEGIN:VTIMEZONE
TZID:America/Chicago
BEGIN:STANDARD
TZNAME:CST
DTSTART:20231105T020000
TZOFFSETFROM:-0500
TZOFFSETTO:-0600
RDATE:20241103T020000
END:STANDARD
BEGIN:DAYLIGHT
TZNAME:CDT
DTSTART:20240310T020000
TZOFFSETFROM:-0600
TZOFFSETTO:-0500
RDATE:20250309T020000
END:DAYLIGHT
END:VTIMEZONE
BEGIN:VEVENT
UID:7fde73ee-cd28-4d16-b109-0eb3cc1fd12f
DTSTAMP:20260425T173321Z
DESCRIPTION:Monthly Board Meeting
DTSTART;TZID=America/Chicago:20240405T183000
DTEND;TZID=America/Chicago:20240405T200000
LOCATION:Atrium Meeting Room
SUMMARY:Board Meeting
END:VEVENT
END:VCALENDAR
