BEGIN:VCALENDAR
VERSION:2.0
PRODID:-//orlando.firespring.org//NONSGML kigkonsult.se iCalcreator 2.30.10
 //
CALSCALE:GREGORIAN
METHOD:PUBLISH
UID:878929bf-6e0f-4a90-afcc-0697b80c76aa
X-WR-CALDESC:Monthly Board Meeting
X-WR-RELCALID:9c5f99d6734f67a24d3921c4e7461c10
X-WR-TIMEZONE:America/Chicago
BEGIN:VTIMEZONE
TZID:America/Chicago
BEGIN:STANDARD
TZNAME:CST
DTSTART:20231105T020000
TZOFFSETFROM:-0500
TZOFFSETTO:-0600
RDATE:20241103T020000
END:STANDARD
BEGIN:DAYLIGHT
TZNAME:CDT
DTSTART:20230312T020000
TZOFFSETFROM:-0600
TZOFFSETTO:-0500
RDATE:20240310T020000
RDATE:20250309T020000
END:DAYLIGHT
END:VTIMEZONE
BEGIN:VEVENT
UID:025264d4-548f-4a8e-afed-4c7a74798375
DTSTAMP:20260425T184625Z
DESCRIPTION:Monthly Board Meeting
DTSTART;TZID=America/Chicago:20240301T183000
DTEND;TZID=America/Chicago:20240301T200000
LOCATION:Atrium Meeting Room
SUMMARY:Board Meeting
END:VEVENT
END:VCALENDAR
