BEGIN:VCALENDAR
VERSION:2.0
PRODID:-//orlando.firespring.org//NONSGML kigkonsult.se iCalcreator 2.30.10
 //
CALSCALE:GREGORIAN
METHOD:PUBLISH
UID:5bdede57-548f-4244-bc8c-aa99f0fd3278
X-WR-CALDESC:Monthly Board Meeting
X-WR-RELCALID:4e28c423adb31a7832e9ce4439b88e31
X-WR-TIMEZONE:America/Chicago
BEGIN:VTIMEZONE
TZID:America/Chicago
BEGIN:STANDARD
TZNAME:CST
DTSTART:20231105T020000
TZOFFSETFROM:-0500
TZOFFSETTO:-0600
RDATE:20241103T020000
END:STANDARD
BEGIN:DAYLIGHT
TZNAME:CDT
DTSTART:20230312T020000
TZOFFSETFROM:-0600
TZOFFSETTO:-0500
RDATE:20240310T020000
RDATE:20250309T020000
END:DAYLIGHT
END:VTIMEZONE
BEGIN:VEVENT
UID:d979eb87-f621-4751-870f-77b0b1c5c7fc
DTSTAMP:20260425T214142Z
DESCRIPTION:Monthly Board Meeting
DTSTART;TZID=America/Chicago:20240105T183000
DTEND;TZID=America/Chicago:20240105T200000
LOCATION:Atrium Meeting Room
SUMMARY:Board Meeting
END:VEVENT
END:VCALENDAR
