BEGIN:VCALENDAR
VERSION:2.0
PRODID:-//orlando.firespring.org//NONSGML kigkonsult.se iCalcreator 2.30.10
 //
CALSCALE:GREGORIAN
METHOD:PUBLISH
UID:f06cd05b-6797-4f2b-9286-d65e172e6313
X-WR-CALDESC:Monthly Board Meeting
X-WR-RELCALID:bc1b2f8f9008b57c4aed80f9ef89640b
X-WR-TIMEZONE:America/Chicago
BEGIN:VTIMEZONE
TZID:America/Chicago
BEGIN:STANDARD
TZNAME:CST
DTSTART:20221106T020000
TZOFFSETFROM:-0500
TZOFFSETTO:-0600
RDATE:20231105T020000
RDATE:20241103T020000
END:STANDARD
BEGIN:DAYLIGHT
TZNAME:CDT
DTSTART:20230312T020000
TZOFFSETFROM:-0600
TZOFFSETTO:-0500
RDATE:20240310T020000
RDATE:20250309T020000
END:DAYLIGHT
END:VTIMEZONE
BEGIN:VEVENT
UID:c74c0d2c-0ead-446f-bf7b-90a94e82fdff
DTSTAMP:20260426T003513Z
DESCRIPTION:Monthly Board Meeting
DTSTART;TZID=America/Chicago:20231103T183000
DTEND;TZID=America/Chicago:20231103T200000
LOCATION:Atrium Meeting Room
SUMMARY:Board Meeting
END:VEVENT
END:VCALENDAR
