BEGIN:VCALENDAR
VERSION:2.0
PRODID:-//orlando.firespring.org//NONSGML kigkonsult.se iCalcreator 2.30.10
 //
CALSCALE:GREGORIAN
METHOD:PUBLISH
UID:d5ca2a31-4c3a-4a56-93b0-0b075898163f
X-WR-CALDESC:Monthly Board Meeting
X-WR-RELCALID:9f826d8a55434f41443d28fc5ced2b49
X-WR-TIMEZONE:America/Chicago
BEGIN:VTIMEZONE
TZID:America/Chicago
BEGIN:STANDARD
TZNAME:CST
DTSTART:20221106T020000
TZOFFSETFROM:-0500
TZOFFSETTO:-0600
RDATE:20231105T020000
RDATE:20241103T020000
END:STANDARD
BEGIN:DAYLIGHT
TZNAME:CDT
DTSTART:20230312T020000
TZOFFSETFROM:-0600
TZOFFSETTO:-0500
RDATE:20240310T020000
END:DAYLIGHT
END:VTIMEZONE
BEGIN:VEVENT
UID:1cffd21f-3f63-48aa-ade5-744eea78d286
DTSTAMP:20260426T031512Z
DESCRIPTION:Monthly Board Meeting
DTSTART;TZID=America/Chicago:20230901T183000
DTEND;TZID=America/Chicago:20230901T200000
LOCATION:Atrium Meeting Room
SUMMARY:Board Meeting
END:VEVENT
END:VCALENDAR
