BEGIN:VCALENDAR
VERSION:2.0
PRODID:-//orlando.firespring.org//NONSGML kigkonsult.se iCalcreator 2.30.10
 //
CALSCALE:GREGORIAN
METHOD:PUBLISH
UID:e1ef3fe9-e248-4030-8746-fb00d72b1d5c
X-WR-CALDESC:Monthly Board Meeting
X-WR-RELCALID:267e8b8183a301badcd81c649bd7a7fb
X-WR-TIMEZONE:America/Chicago
BEGIN:VTIMEZONE
TZID:America/Chicago
BEGIN:STANDARD
TZNAME:CST
DTSTART:20251102T020000
TZOFFSETFROM:-0500
TZOFFSETTO:-0600
RDATE:20261101T020000
END:STANDARD
BEGIN:DAYLIGHT
TZNAME:CDT
DTSTART:20260308T020000
TZOFFSETFROM:-0600
TZOFFSETTO:-0500
RDATE:20270314T020000
END:DAYLIGHT
END:VTIMEZONE
BEGIN:VEVENT
UID:704f2b4c-da9a-475e-af6f-4ccc388df3ef
DTSTAMP:20260424T093101Z
DESCRIPTION:Monthly Board Meeting
DTSTART;TZID=America/Chicago:20260501T183000
DTEND;TZID=America/Chicago:20260501T200000
LOCATION:Atrium Meeting Room
SUMMARY:Board Meeting
END:VEVENT
END:VCALENDAR
